Workbook
Name _Hlk147397582: 'Findings-Übersicht'!$B$8
Name _Hlk147409654: 'Findings-Übersicht'!$B$9
Name _Hlk147409684: 'Findings-Übersicht'!$B$4
Name _Hlk147409698: 'Findings-Übersicht'!$B$7
Name _Hlk147409741: 'Findings-Übersicht'!$B$10

Sheet Grafiken
K2: Overview Findings
K3: ID | L3: Finding | M3: Number of affected assets | N3: CVSS-Score
K4: ='Findings-Übersicht'!A3 -> FIN-01 | L4: ='Findings-Übersicht'!B3 -> Use of easily guessable passwords | M4: =Assets!E$2 -> 1 | N4: ='Findings-Übersicht'!C3 -> 9.8 (Critical)
K5: ='Findings-Übersicht'!A4 -> FIN-02 | L5: ='Findings-Übersicht'!B4 -> Privilege escalation through vulnerable certificate template | M5: =Assets!F$2 -> 1 | N5: ='Findings-Übersicht'!C4 -> 8.8 (High)
K6: ='Findings-Übersicht'!A5 -> FIN-03 | L6: ='Findings-Übersicht'!B5 -> No dedicated environment for administrative activities | M6: =Assets!G$2 -> 1 | N6: ='Findings-Übersicht'!C5 -> 7.1 (High)
K7: ='Findings-Übersicht'!A6 -> FIN-04 | L7: ='Findings-Übersicht'!B6 -> LDAP communication can be manipulated | M7: =Assets!H$2 -> 1 | N7: ='Findings-Übersicht'!C6 -> 6.5 (Medium)
K8: ='Findings-Übersicht'!A7 -> FIN-05 | L8: ='Findings-Übersicht'!B7 -> Internal infrastructure accessible from guest WiFi | M8: =Assets!I$2 -> 1 | N8: ='Findings-Übersicht'!C7 -> 6.4 (Medium)
K9: ='Findings-Übersicht'!A8 -> FIN-06 | L9: ='Findings-Übersicht'!B8 -> Inconsistent use of LAPS | M9: =Assets!J$2 -> 1 | N9: ='Findings-Übersicht'!C8 -> 5.4 (Medium)
K10: ='Findings-Übersicht'!A9 -> FIN-07 | L10: ='Findings-Übersicht'!B9 -> No detection of security-relevant events | M10: =Assets!K$2 -> 1 | N10: ='Findings-Übersicht'!C9 -> 0.0 (Info)
L55: Hint:
L56: When findings are broken down by asset, some assets are listed as groups—for example, “Web Services”—because listing every single service would not be practical for the sake of clarity. If an asset is listed individually, all applicable findings—including those from groups—are assigned to that asset.

Sheet Findings-Übersicht
C1: MindBytes | K1: Sample Company GmbH
A2: ID | B2: Finding | C2: CVSS v3.1 | D2: Damage | E2: Likelihood | F2: Summary | G2: Action | H2: Priority | I2: Remediation time | J2: Cost | K2: Priority | L2: Remediation Time | M2: Cost | N2: Fix until | O2: Status | P2: Person in charge | Q2: Remarks
A3: FIN-01 | B3: Use of easily guessable passwords | C3: =HYPERLINK("https://www.first.org/cvss/calculator/3.1#CVSS:3.1/AV:N/AC:L/PR:N/UI:N/S:U/C:H/I:H/A:H","9.8 (Critical)") -> 9.8 (Critical) | D3: 5 | E3: 5 | F3: A large number of user accounts had easily guessable passwords. This puts the associated user account and, depending on the user's authorizations, the entire environment at risk. | G3: Adapt configuration | H3: Urgent | I3: Days | J3: No
A4: FIN-02 | B4: Privilege escalation through vulnerable certificate template | C4: =HYPERLINK("https://www.first.org/cvss/calculator/3.1#CVSS:3.1/AV:N/AC:L/PR:L/UI:N/S:U/C:H/I:H/A:H","8.8 (High)") -> 8.8 (High) | D4: 5 | E4: 4 | F4: All domain users are able to have certificates issued for any other user and use them themselves for authentication. In this way, the privileges of a domain admin could be obtained. | G4: Quick wins | H4: Urgent | I4: Hours | J4: No
A5: FIN-03 | B5: No dedicated environment for administrative activities | C5: =HYPERLINK("https://www.first.org/cvss/calculator/3.1#CVSS:3.1/AV:N/AC:H/PR:L/UI:N/S:C/C:L/I:H/A:N","7.1 (High)") -> 7.1 (High) | D5: 4 | E5: 2 | F5: Administrative activities are carried out in the operational environment, i.e. from a regular workstation and without a dedicated admin account. If there is no separation between the operational environment and an administrative environment, attackers are more easily able to spread within the internal network. | G5: Introduce new concepts | H5: Medium-term | I5: Weeks | J5: Probably
A6: FIN-04 | B6: LDAP communication can be manipulated | C6: =HYPERLINK("https://www.first.org/cvss/calculator/3.1#CVSS:3.1/AV:N/AC:L/PR:L/UI:N/S:U/C:N/I:H/A:N","6.5 (Medium)") -> 6.5 (Medium) | D6: 3 | E6: 4 | F6: LDAP signing is not being enforced in the environment. This facilitates man-in-the-middle attacks where the content of LDAP requests is manipulated. Using the so-called KrbRelayUp attack, we were able to gain local administrator privileges on the provided laptop. | G6: Adapt configuration | H6: Urgent | I6: Days | J6: No
A7: FIN-05 | B7: Internal infrastructure accessible from guest WiFi | C7: =HYPERLINK("https://www.first.org/cvss/calculator/3.1#CVSS:3.1/AV:N/AC:L/PR:L/UI:N/S:C/C:L/I:L/A:N","6.4 (Medium)") -> 6.4 (Medium) | D7: 2 | E7: 4 | F7: Parts of the internal infrastructure that should not be accessible were accessible over the guest WiFi. This opens up a way into the internal infrastructure for attackers. | G7: Quick wins | H7: Urgent | I7: Hours | J7: No
A8: FIN-06 | B8: Inconsistent use of LAPS | C8: =HYPERLINK("https://www.first.org/cvss/calculator/3.1#CVSS:3.1/AV:N/AC:L/PR:L/UI:N/S:U/C:L/I:L/A:N","5.4 (Medium)") -> 5.4 (Medium) | D8: 2 | E8: 4 | F8: On 3 systems, the passwords of local administrators are not managed using LAPS (Local Administrator Password Solution", although LAPS was used elsewhere in the domain. This can lead to local administrator accounts having the same password on different systems, which facilitates spreading in the domain. | G8: Quick wins | H8: Urgent | I8: Hours | J8: No
A9: FIN-07 | B9: No detection of security-relevant events | C9: =HYPERLINK("https://www.first.org/cvss/calculator/3.1#CVSS:3.1/AV:N/AC:H/PR:L/UI:N/S:U/C:N/I:N/A:N","0.0 (Info)") -> 0.0 (Info) | D9: 0 | E9: 0 | F9: According to the contact person, security-relevant events were not detected during the pentest. This means that an active attacker in the network cannot be detected. Appropriate countermeasures are therefore probably not taken or are taken too late, which can result in major damage to the entire company. | G9: Introduce new concepts | H9: Medium-term | I9: Weeks | J9: Probably

Sheet Assets
A1: Asset-Type | B1: Asset | C1: Description | D1: Quantity | E1: FIN-01 | F1: FIN-02 | G1: FIN-03 | H1: FIN-04 | I1: FIN-05 | J1: FIN-06 | K1: FIN-07
D2: Findings \ Assets | E2: =COUNTIF(E3:E87,"x") -> 1 | F2: =COUNTIF(F3:F87,"x") -> 1 | G2: =COUNTIF(G3:G87,"x") -> 1 | H2: =COUNTIF(H3:H87,"x") -> 1 | I2: =COUNTIF(I3:I87,"x") -> 1 | J2: =COUNTIF(J3:J87,"x") -> 1 | K2: =COUNTIF(K3:K87,"x") -> 1
A3: User | B3: 5 user and service accounts of the example.local domain | D3: =COUNTIF(E3:ZZ3,"x") -> 1 | E3: x
A4: Certificate template | B4: Certificate template “AllUsers” of the CA “example.local\CA” | D4: =COUNTIF(E4:ZZ4,"x") -> 1 | F4: x
A5: Domain | B5: Concept for managing the example.local domain | D5: =COUNTIF(E5:ZZ5,"x") -> 1 | G5: x
A6: Domain | B6: Domain example.local | D6: =COUNTIF(E6:ZZ6,"x") -> 1 | H6: x
A7: Wifi | B7: WiFi with SSID "ExampleGuests" | D7: =COUNTIF(E7:ZZ7,"x") -> 1 | I7: x
A8: System | B8: 3 computers in the example.local domain | D8: =COUNTIF(E8:ZZ8,"x") -> 1 | J8: x
A9: Network | B9: Internal infrastructure | D9: =COUNTIF(E9:ZZ9,"x") -> 1 | K9: x

Sheet Dropdowns
A1: Category | B1: Status | C1: Priority | D1: Remediation time | E1: Cost | F1: Damage/Probability | G1: Asset-Type
A2: Administration & Concepts | B2: Open | C2: Urgent | D2: Hours | E2: No | F2: 0 | G2: System
A3: Network & Protocols | B3: In progress | C3: Medium-term | D3: Days | E3: Probably not | F3: 1 | G3: User
A4: Authentication | B4: Fixed | C4: Long-term | D4: Weeks | E4: Maybe | F4: 2 | G4: Domain
A5: Misconfigurations | B5: Accepted risk | E5: Yes | F5: 3 | G5: Network
A6: Information disclosure | F6: 4 | G6: Website
A7: Building safety | F7: 5
A8: Awareness
A9: Attack detection and response

Sheet Impressum
A1: Legal notice
A2: MindBytes GmbH
A3: Welfenstr. 88i
A4: 70599 Stuttgart
A6: +49 711 20709567
A7: hallo@mindbytes.de
A8: https://mindbytes.de
A10: Local Court Stuttgart, HRB 790784
A11: Represented by Christian Stehle, Nina Wagner, Simon Holl
